Workbook

Sheet Info
A1: Calculation details at:
A2: https://www.deriscope.com/products/Function_IRS__Carry.html
A3: and
A4: https://www.deriscope.com/products/Function_IRS__Rolldown.html

Sheet Curves
C3: Discounting Yield Curve | H3: Forecasting Yield Curve
C4: {=_xll.ds(C5:D13)} -> &DiscCrv_C4:2.1 | H4: {=_xll.ds(H5:I13)} -> &ForcCrv_H4:2.1
C5: Type= | D5: Yield Curve | H5: Type= | I5: Yield Curve
C6: Function= | D6: Create | H6: Function= | I6: Create
C7: Handle= | D7: DiscCrv_ | H7: Handle= | I7: ForcCrv_
C8: Trade Date= | D8: =CarryRoll!$D$4 -> 44533 | H8: Trade Date= | I8: =CarryRoll!$D$4 -> 44533
C9: Issuer= | D9: %Riskless Issuer | H9: Issuer= | I9: %Risky Issuer
C10: Currency= | D10: %USD | H10: Currency= | I10: %USD
C11: Market Data= | D11: =$C$15 -> &YldCrvOis_C15:2.1 | H11: Market Data= | I11: =$H$15 -> &YldCrvDep_H15:2.1
C12: Modelled Qty= | D12: Zero Yield | H12: Modelled Qty= | I12: Zero Yield
C13: Interp Method= | D13: Linear | H13: Interp Method= | I13: Linear
C15: {=_xll.ds(C16:D18,C20,C21:D37)} -> &YldCrvOis_C15:2.1 | H15: {=_xll.ds(H16:I17,H19,H20:I36)} -> &YldCrvDep_H15:2.1
C16: Type= | D16: Yield Curve Ois | H16: Type= | I16: Yield Curve Dep
C17: Function= | D17: CREATE | H17: Function= | I17: CREATE
C18: ON Index= | D18: %Sofr
H19: Set=
C20: Set= | H20: #Maturity | I20: #Rate
C21: #Tenor | D21: #Rate | H21: =C22 -> %1M | I21: =D22+0.01 -> 0.05
C22: %1M | D22: 0.04 | H22: =C23 -> %2M | I22: =D23+0.01 -> 0.051
C23: %2M | D23: 0.041 | H23: =C24 -> %3M | I23: =D24+0.01 -> 0.052
C24: %3M | D24: 0.042 | H24: =C25 -> %4M | I24: =D25+0.01 -> 0.053
C25: %4M | D25: 0.043 | H25: =C26 -> %5M | I25: =D26+0.01 -> 0.054
C26: %5M | D26: 0.044 | H26: =C27 -> %6M | I26: =D27+0.01 -> 0.055
C27: %6M | D27: 0.045 | H27: =C28 -> %7M | I27: =D28+0.01 -> 0.056
C28: %7M | D28: 0.046 | H28: =C29 -> %8M | I28: =D29+0.01 -> 0.057
C29: %8M | D29: 0.047 | H29: =C30 -> %9M | I29: =D30+0.01 -> 0.058
C30: %9M | D30: 0.048 | H30: =C31 -> %10M | I30: =D31+0.01 -> 0.059
C31: %10M | D31: 0.049 | H31: =C32 -> %11M | I31: =D32+0.01 -> 0.06
C32: %11M | D32: 0.05 | H32: =C33 -> %12M | I32: =D33+0.01 -> 0.061
C33: %12M | D33: 0.051 | H33: =C34 -> %2Y | I33: =D34+0.01 -> 0.07
... C36: %4Y | D36: 0.08 | H36: =C37 -> %5Y | I36: =D37+0.01 -> 0.1
C37: %5Y | D37: 0.09

Sheet CarryRoll
C3: Dates Input | H3: Original Spot Swap | M3: Cash Flows of original Swap | Y3: Fair Rates of various swap constructions | AF3: ="Carry (clean): "&$AB$6&" - "&$AB$5 -> Carry (clean): FC - S | AK3: ="Rolldown (clean): "&$AB$5&" - "&$AB$8 -> Rolldown (clean): S - RC | AP3: ="Rolldown (shortened bond): "&$AB$5&" - "&$AB$10 -> Rolldown (shortened bond): S - SH
C4: Spot Date: | D4: 44533 | H4: {=_xll.ds(H5:I20)} -> &ois__H4:1.1 | M4: {=_xll.ds("ObjectTools::Show","Reference=",$C$37)} -> #AccrStart | N4: #AccrEnd | O4: #Fixing | P4: #FixingStart | Q4: #FixingEnd | R4: #PmtDate | S4: #Amount | T4: #Counter | Y4: Type | Z4: Swap | AA4: Fair Rate | AB4: Symbol | AF4: Match: | AG4: =AG5=AG6 -> TRUE | AK4: Match: | AL4: =AL5=AL6 -> TRUE | AP4: Match: | AQ4: =AQ5=AQ6 -> TRUE
C5: Horizon Date: | D5: 44805 | H5: Type= | I5: OIS | M5: 44537 | N5: 44627 | O5: 44624 | P5: 44537 | Q5: 44627 | R5: 44629 | S5: -12.870916 | T5: 1 | Y5: spot original | Z5: =$H$4 -> &ois__H4:1.1 | AA5: {=_xll.ds("FairRate",Z5,$H$114:$I$115)} -> 0.067541791 | AB5: S | AF5: Manual: | AG5: =10000*($AA$6-$AA$5) -> 52.648849 | AK5: Manual: | AL5: =10000*($AA$5-$AA$8) -> 54.002469 | AP5: Manual: | AQ5: =10000*($AA$5-$AA$10) -> 53.416295
C6: OIS Data Input | H6: Function= | I6: Create | M6: 44537 | N6: 44902 | R6: 44904 | S6: 40 | T6: 5 | Y6: fwd clean | Z6: =$H$59 -> &OisFwdCln_H59:1.1 | AA6: {=_xll.ds("FairRate",Z6,$H$114:$I$115)} -> 0.072806676 | AB6: FC | AF6: Deriscope: | AG6: {=_xll.ds(AF7:AG15)} -> 52.648849 | AK6: Deriscope: | AL6: {=_xll.ds(AK7:AL15)} -> 54.002469 | AP6: Deriscope: | AQ6: {=_xll.ds(AP7:AQ14)} -> 53.416295
C7: ON Index: | D7: %Sofr | H7: ON Index= | I7: =$D$7 -> %Sofr | M7: 44627 | N7: 44719 | O7: 44718 | P7: 44627 | Q7: 44719 | R7: 44721 | S7: -14.475862 | T7: 2 | Y7: fwd dirty | Z7: =$H$69 -> &OisFwdDrt_H69:1.1 | AA7: {=_xll.ds("FairRate",Z7,$H$114:$I$115)} -> 0.052914057 | AB7: FD | AF7: Object= | AG7: =$H$4 -> &ois__H4:1.1 | AK7: Object= | AL7: =$H$4 -> &ois__H4:1.1 | AP7: Object= | AQ7: =$H$4 -> &ois__H4:1.1
C8: Settle Days: | D8: 2 | H8: Build Rule= | I8: Compound | M8: 44719 | N8: 44811 | O8: 44810 | P8: 44719 | Q8: 44811 | R8: 44813 | S8: -15.739212 | T8: 3 | Y8: rolled back fwd clean | Z8: =$H$80 -> &OisRldCln_H80:1.1 | AA8: {=_xll.ds("FairRate",Z8,$H$114:$I$115)} -> 0.062141544 | AB8: RC | AF8: Function= | AG8: Carry | AK8: Function= | AL8: Rolldown | AP8: Function= | AQ8: Rolldown
C9: Swap Tenor: | D9: %2Y | H9: Obs Lag= | I9: 0 | M9: 44811 | N9: 44902 | O9: 44901 | P9: 44811 | Q9: 44902 | R9: 44904 | S9: -16.744933 | T9: 4 | Y9: rolled back fwd dirty | Z9: =$H$91 -> &OisRldDrt_H91:1.1 | AA9: {=_xll.ds("FairRate",Z9,$H$114:$I$115)} -> 0.044921105 | AB9: RD | AF9: Horizon Date= | AG9: =$D$5 -> 44805 | AK9: Horizon Date= | AL9: =$D$5 -> 44805 | AP9: Horizon Date= | AQ9: =$D$5 -> 44805
C10: Swap Fxd Rate(%): | D10: 4 | H10: Lookback= | I10: 0 | M10: 44902 | N10: 44992 | O10: 44991 | P10: 44902 | Q10: 44992 | R10: 44994 | S10: -16.709471 | T10: 6 | Y10: shortened spot original | Z10: =$H$102 -> &OisShort_H102:1.1 | AA10: {=_xll.ds("FairRate",Z10,$H$114:$I$115)} -> 0.062200161 | AB10: SH | AF10: Clean Terms= | AG10: TRUE | AK10: Clean Terms= | AL10: TRUE | AP10: Clean Terms= | AQ10: TRUE
C11: Swap Spread(%): | D11: 0 | H11: Rate Cutoff= | I11: 1 | M11: 44902 | N11: 45267 | R11: 45271 | S11: 40 | T11: 10 | AF11: Method= | AG11: Modify Swap | AK11: Definition= | AL11: Fwd as Spot | AP11: Definition= | AQ11: Shorten Spot
C12: Fxd Leg Step: | D12: %1Y | H12: Gearing= | I12: 1 | M12: 44992 | N12: 45084 | O12: 45083 | P12: 44992 | Q12: 45084 | R12: 45086 | S12: -17.88988 | T12: 7 | AF12: Keep Reset Dates= | AG12: =$D$22 -> TRUE | AK12: Keep Reset Dates= | AL12: =$D$22 -> TRUE | AP12: Disc Crv= | AQ12: =Curves!$C$4 -> &DiscCrv_C4:2.1
C13: Flt Leg Step: | D13: %3M | H13: Spread= | I13: =$D$11 -> 0 | M13: 45084 | N13: 45176 | O13: 45175 | P13: 45084 | Q13: 45176 | R13: 45180 | S13: -18.70532 | T13: 8 | AF13: Disc Crv= | AG13: =Curves!$C$4 -> &DiscCrv_C4:2.1 | AK13: Disc Crv= | AL13: =Curves!$C$4 -> &DiscCrv_C4:2.1 | AP13: Forc Crv= | AQ13: =Curves!$H$4 -> &ForcCrv_H4:2.1
C14: Fxd Leg Accr Bump: | D14: %MF | H14: Flt Schedule= | I14: =$H$22 -> &FltSched_H22:1.1 | M14: 45176 | N14: 45267 | O14: 45266 | P14: 45176 | Q14: 45267 | R14: 45271 | S14: -19.299744 | T14: 9 | Y14: Fair Rate of Spot Swap using the rolled curves | AF14: Forc Crv= | AG14: =Curves!$H$4 -> &ForcCrv_H4:2.1 | AK14: Forc Crv= | AL14: =Curves!$H$4 -> &ForcCrv_H4:2.1 | AP14: Out Unit= | AQ14: bp
C15: Flt Leg Accr Bump: | D15: %MF | H15: Flt Pmt Lag= | I15: %2B{US_GOVBOND} | M15: Cash Flows (clean) of forward Swap entered at Horizon Date | Y15: {=_xll.ds(Y16:Z19)} -> 0.046436479 | AF15: Out Unit= | AG15: bp | AK15: Out Unit= | AL15: bp
C16: Fxd Leg Accr DC: | D16: %30/360 | H16: Fxd Rate(%)= | I16: =$D$10 -> 4 | M16: {=_xll.ds("ObjectTools::Show","Reference=",$C$46)} -> #AccrStart | N16: #AccrEnd | O16: #Fixing | P16: #FixingStart | Q16: #FixingEnd | R16: #PmtDate | S16: #Amount | T16: #Counter | Y16: Object= | Z16: =$H$4 -> &ois__H4:1.1
C17: Accr Calendar: | D17: %GB_LSX | H17: Fxd Schedule= | I17: =$H$39 -> &FxdSched_H39:1.1 | M17: 44805 | N17: 44811 | O17: 44810 | P17: 44719 | Q17: 44811 | R17: 44813 | S17: -1.0264704 | T17: 1 | Y17: Function= | Z17: Fair Rate
C18: Pmt Delay: | D18: %0D{US} | H18: Fxd Pmt Lag= | I18: %2B{US_GOVBOND} | M18: 44805 | N18: 44902 | R18: 44904 | S18: 10.666667 | T18: 3 | Y18: Disc Crv= | Z18: =$Y$24 -> &RolDiscCrv_Y24:1.1
C19: Notional: | D19: 1000 | H19: Notional= | I19: =$D$19 -> 1000 | M19: 44811 | N19: 44902 | O19: 44901 | P19: 44811 | Q19: 44902 | R19: 44904 | S19: -16.744933 | T19: 2 | Y19: Forc Crv= | Z19: =$Y$30 -> &RolForcCrv_Y30:1.1 | AF19: ="Carry (dirty): "&$AB$7&" - "&$AB$5 -> Carry (dirty): FD - S | AK19: ="Rolldown (dirty): "&$AB$5&" - "&$AB$9 -> Rolldown (dirty): S - RD | AP19: Rolldown (dirty) using rolled curves
H20: Fxd Leg Dir= | I20: REC | M20: 44902 | N20: 44992 | O20: 44991 | P20: 44902 | Q20: 44992 | R20: 44994 | S20: -16.709471 | T20: 4 | AF20: Match: | AG20: =AG24=AG38 -> TRUE | AK20: Match: | AL20: =AL21=AL22 -> TRUE | AP20: Match: | AQ20: =AQ21=AQ22 -> TRUE
C21: Calculation Options | M21: 44902 | N21: 45267 | R21: 45271 | S21: 40 | T21: 8 | AF21: Method using modified swap | AK21: Manual: | AL21: =10000*($AA$5-$AA$9) -> 226.20685 | AP21: Manual: | AQ21: =10000*($AA$5-$Y$15) -> 211.05311
C22: Keep Reset Dates: | D22: TRUE | H22: {=_xll.ds(H23:I37)} -> &FltSched_H22:1.1 | M22: 44992 | N22: 45084 | O22: 45083 | P22: 44992 | Q22: 45084 | R22: 45086 | S22: -17.88988 | T22: 5 | AF22: Match: | AG22: =AG23=AG24 -> TRUE | AK22: Deriscope: | AL22: {=_xll.ds(AK23:AL31)} -> 226.20685 | AP22: Deriscope: | AQ22: {=_xll.ds(AP23:AQ30)} -> 211.05311
H23: Type= | I23: Schedule | M23: 45084 | N23: 45176 | O23: 45175 | P23: 45084 | Q23: 45176 | R23: 45180 | S23: -18.70532 | T23: 6 | Y23: Creation of rolled curves | AF23: Manual: | AG23: =10000*($AA$7-$AA$5) -> -146.27734 | AK23: Object= | AL23: =$H$4 -> &ois__H4:1.1 | AP23: Object= | AQ23: =$H$4 -> &ois__H4:1.1
C24: Spot Swap Start Date | H24: Function= | I24: CREATE | M24: 45176 | N24: 45267 | O24: 45266 | P24: 45176 | Q24: 45267 | R24: 45271 | S24: -19.299744 | T24: 7 | Y24: {=_xll.ds(Y25:Z28)} -> &RolDiscCrv_Y24:1.1 | AF24: Deriscope: | AG24: {=_xll.ds(AF25:AG33)} -> -146.27734 | AK24: Function= | AL24: Rolldown | AP24: Function= | AQ24: Rolldown
C25: Spot Swap Accr Start: | D25: =MAX(D26:D27) -> 44537 | H25: Handle= | I25: FltSched_ | Y25: Object= | Z25: =Curves!$C$4 -> &DiscCrv_C4:2.1 | AF25: Object= | AG25: =$H$4 -> &ois__H4:1.1 | AK25: Horizon Date= | AL25: =$D$5 -> 44805 | AP25: Horizon Date= | AQ25: =$D$5 -> 44805
C26: Settle due to Index: | D26: {=_xll.ds("Start Date",$D$7,"Ref Date=",$D$4)} -> 44533 | H26: Open End= | I26: FALSE | Y26: Function= | Z26: Roll Curve | AF26: Function= | AG26: Carry | AK26: Clean Terms= | AL26: FALSE | AP26: Clean Terms= | AQ26: FALSE
C27: Settle due to Accr Cal: | D27: {=_xll.ds("Date::Add Bus Days","Date=",$D$4,"Bus Days=",$D$8,"Calendar=",$D$17)} -> 44537 | H27: Implied= | I27: TRUE | M27: Cash Flows (dirty) of forward Swap entered at Horizon Date | Y27: Handle= | Z27: RolDiscCrv_ | AF27: Horizon Date= | AG27: =$D$5 -> 44805 | AK27: Definition= | AL27: Fwd as Spot | AP27: Definition= | AQ27: Roll Crv to Hor
H28: Start Date= | I28: =$D$25 -> 44537 | M28: {=_xll.ds("ObjectTools::Show","Reference=",$C$55)} -> #AccrStart | N28: #AccrEnd | O28: #Fixing | P28: #FixingStart | Q28: #FixingEnd | R28: #PmtDate | S28: #Amount | T28: #Counter | Y28: Horizon Date= | Z28: =$D$5 -> 44805 | AF28: Clean Terms= | AG28: FALSE | AK28: Keep Reset Dates= | AL28: =$D$22 -> TRUE | AP28: Disc Crv= | AQ28: =Curves!$C$4 -> &DiscCrv_C4:2.1
C29: Fwd Swap Start Date | H29: Define Tenor= | I29: TRUE | M29: 44537 | N29: 44902 | R29: 44904 | S29: 40 | T29: 3 | AF29: Method= | AG29: Modify Swap | AK29: Disc Crv= | AL29: =Curves!$C$4 -> &DiscCrv_C4:2.1 | AP29: Forc Crv= | AQ29: =Curves!$H$4 -> &ForcCrv_H4:2.1
C30: Fwd Swap Accr Start: | D30: =MAX(D31:D32) -> 44809 | H30: Tenor= | I30: =$D$9 -> %2Y | M30: 44719 | N30: 44811 | O30: 44810 | P30: 44719 | Q30: 44811 | R30: 44813 | S30: -15.739212 | T30: 1 | Y30: {=_xll.ds(Y31:Z35)} -> &RolForcCrv_Y30:1.1 | AF30: Keep Reset Dates= | AG30: =$D$22 -> TRUE | AK30: Forc Crv= | AL30: =Curves!$H$4 -> &ForcCrv_H4:2.1 | AP30: Out Unit= | AQ30: bp
C31: Settle due to Index: | D31: {=_xll.ds("Start Date",$D$7,"Ref Date=",$D$5)} -> 44805 | H31: Step= | I31: =$D$13 -> %3M | M31: 44811 | N31: 44902 | O31: 44901 | P31: 44811 | Q31: 44902 | R31: 44904 | S31: -16.744933 | T31: 2 | Y31: Object= | Z31: =Curves!$H$4 -> &ForcCrv_H4:2.1 | AF31: Disc Crv= | AG31: =Curves!$C$4 -> &DiscCrv_C4:2.1 | AK31: Out Unit= | AL31: bp
C32: Settle due to Accr Cal: | D32: {=_xll.ds("Date::Add Bus Days","Date=",$D$5,"Bus Days=",$D$8,"Calendar=",$D$17)} -> 44809 | H32: Date Bump= | I32: =$D$15 -> %MF | M32: 44902 | N32: 44992 | O32: 44991 | P32: 44902 | Q32: 44992 | R32: 44994 | S32: -16.709471 | T32: 4 | Y32: Function= | Z32: Roll Curve | AF32: Forc Crv= | AG32: =Curves!$H$4 -> &ForcCrv_H4:2.1
H33: Date Bump End= | I33: =$D$15 -> %MF | M33: 44902 | N33: 45267 | R33: 45271 | S33: 40 | T33: 8 | Y33: Handle= | Z33: RolForcCrv_ | AF33: Out Unit= | AG33: bp
H34: Calendar= | I34: =$D$17 -> %GB_LSX | M34: 44992 | N34: 45084 | O34: 45083 | P34: 44992 | Q34: 45084 | R34: 45086 | S34: -17.88988 | T34: 5 | Y34: Horizon Date= | Z34: =$D$5 -> 44805
H35: DayCount= | I35: {=_xll.ds("ObjectTools::Show","Reference=",$D$7,"Key=","DayCount")} -> %ACT/360 | M35: 45084 | N35: 45176 | O35: 45175 | P35: 45084 | Q35: 45176 | R35: 45180 | S35: -18.70532 | T35: 6 | Y35: As Forc Curve= | Z35: TRUE | AF35: Method using modified disc curve
C36: Generation of Cash Flows | H36: Rule= | I36: Forward | M36: 45176 | N36: 45267 | O36: 45266 | P36: 45176 | Q36: 45267 | R36: 45271 | S36: -19.299744 | T36: 7 | AF36: Match: | AG36: =AG37=AG38 -> TRUE
C37: {=_xll.ds(C38:D44)} -> &CFOrig_C37:1.1 | H37: End Of Month= | I37: {=_xll.ds("ObjectTools::Show","Reference=",$D$7,"Key=","EOM")} -> FALSE | AF37: Manual: | AG37: =10000*($Y$40-$AA$5) -> -146.27734
C38: Object= | D38: =$H$4 -> &ois__H4:1.1 | AF38: Deriscope: | AG38: {=_xll.ds(AF39:AG46)} -> -146.27734
C39: Function= | D39: Price | H39: {=_xll.ds(H40:I54)} -> &FxdSched_H39:1.1 | M39: Cash Flows (clean) of forward Swap entered at Horizon Date after being rolled backwards to Spot Date | Y39: Fair Rate of Spot Swap using a modified disc curve | AF39: Object= | AG39: =$H$4 -> &ois__H4:1.1
C40: Handle= | D40: CFOrig_ | H40: Type= | I40: Schedule | M40: {=_xll.ds("ObjectTools::Show","Reference=",$C$64)} -> #AccrStart | N40: #AccrEnd | O40: #Fixing | P40: #FixingStart | Q40: #FixingEnd | R40: #PmtDate | S40: #Amount | T40: #Counter | Y40: {=_xll.ds(Y41:Z44)} -> 0.052914057 | AF40: Function= | AG40: Carry
C41: As Of= | D41: =$D$4 -> 44533 | H41: Function= | I41: CREATE | M41: 44533 | N41: 44539 | O41: 44538 | P41: 44533 | Q41: 44539 | R41: 44543 | S41: -0.820514 | T41: 1 | Y41: Object= | Z41: =$H$4 -> &ois__H4:1.1 | AF41: Horizon Date= | AG41: =$D$5 -> 44805
C42: Models= | D42: =$C$91 -> &CFMdl_C91:1.1 | H42: Handle= | I42: FxdSched_ | M42: 44533 | N42: 44630 | R42: 44634 | S42: 10.777778 | T42: 3 | Y42: Function= | Z42: Fair Rate | AF42: Clean Terms= | AG42: FALSE
...

Sheet Portfolio
C3: Portfolio Creation | H3: Task Creation | N3: Task Execution | S3: Output
C4: {=_xll.ds(C5:D6,C8:C10)} -> &Prtfl_C4:3.1 | H4: {=_xll.ds(H5:I7,H8,H9:J10)} -> &CarryTask_H4:3.1 | N4: {=_xll.ds(N5:O6)} -> &keyset__N4:3.1 | S4: {=_xll.ds("ObjectTools::Show","Reference=",$N$4,"Key=","CARRY","ExpandFinal=",TRUE)} -> 52.648849
C5: Type= | D5: Portfolio | H5: Type= | I5: Task | N5: Object= | O5: =$H$4 -> &CarryTask_H4:3.1 | S5: 53.405087
C6: Function= | D6: Create | H6: Function= | I6: Create | N6: Function= | O6: Run
H7: Handle= | I7: CarryTask_
C8: Tradables= | H8: Functions=
C9: =CarryRoll!$H$4 -> &ois__H4:1.1 | H9: #Function | I9: #Target | J9: #CommonInput
C10: =$C$12 -> &Ois2_C12:3.1 | H10: Carry | I10: =$C$4 -> &Prtfl_C4:3.1 | J10: =$H$12 -> &CarryInput_H12:3.1
C12: {=_xll.ds(C13:D17)} -> &Ois2_C12:3.1 | H12: {=_xll.ds(H13:I22)} -> &CarryInput_H12:3.1
C13: Object= | D13: =CarryRoll!$H$4 -> &ois__H4:1.1 | H13: Type= | I13: KeySet
C14: Function= | D14: Clone | H14: Function= | I14: CREATE
C15: Handle= | D15: Ois2_ | H15: Handle= | I15: CarryInput_
C16: Flt Schedule= | D16: =C19 -> &FltSched2_C19:3.1 | H16: Horizon Date= | I16: =CarryRoll!$D$5 -> 44805
C17: Fxd Schedule= | D17: =C25 -> &FxdSched2_C25:3.1 | H17: Clean Terms= | I17: TRUE
H18: Method= | I18: Modify Swap
C19: {=_xll.ds(C20:D23)} -> &FltSched2_C19:3.1 | H19: Keep Reset Dates= | I19: =CarryRoll!$D$22 -> TRUE
C20: Object= | D20: =CarryRoll!$H$22 -> &FltSched_H22:1.1 | H20: Disc Crv= | I20: =Curves!$C$4 -> &DiscCrv_C4:2.1
C21: Function= | D21: Clone | H21: Forc Crv= | I21: =Curves!$H$4 -> &ForcCrv_H4:2.1
C22: Handle= | D22: FltSched2_ | H22: Out Unit= | I22: bp
C23: Tenor= | D23: %3Y
C25: {=_xll.ds(C26:D29)} -> &FxdSched2_C25:3.1
C26: Object= | D26: =CarryRoll!$H$39 -> &FxdSched_H39:1.1
C27: Function= | D27: Clone
C28: Handle= | D28: FxdSched2_
C29: Tenor= | D29: %3Y
