Workbook

Sheet Info
A1: Calculation details at:
A2: https://www.deriscope.com/products/Function_Bond__Carry.html
A3: and
A4: https://www.deriscope.com/products/Function_Bond__Rolldown.html

Sheet Curves
C3: Discounting Yield Curve
C4: {=_xll.ds(C5:D13)} -> &DiscCrv_C4:52.1
C5: Type= | D5: Yield Curve
C6: Function= | D6: Create
C7: Handle= | D7: DiscCrv_
C8: Trade Date= | D8: =CarryRoll!$D$4 -> 44533
C9: Issuer= | D9: %Riskless Issuer
C10: Currency= | D10: %USD
C11: Market Data= | D11: =$C$15 -> &YldCrvDep_C15:52.1
C12: Modelled Qty= | D12: Zero Yield
C13: Interp Method= | D13: Linear
C15: {=_xll.ds(C16:D17,C19,C20:D36)} -> &YldCrvDep_C15:52.1
C16: Type= | D16: Yield Curve Dep
C17: Function= | D17: CREATE
C19: Set=
C20: #Maturity | D20: #Rate
C21: %1M | D21: 0.04
C22: %2M | D22: 0.041
C23: %3M | D23: 0.042
C24: %4M | D24: 0.043
C25: %5M | D25: 0.044
C26: %6M | D26: 0.045
C27: %7M | D27: 0.046
C28: %8M | D28: 0.047
C29: %9M | D29: 0.048
C30: %10M | D30: 0.049
C31: %11M | D31: 0.05
C32: %12M | D32: 0.051
... C36: %5Y | D36: 0.09

Sheet CarryRoll
C3: Dates Input | H3: Coupons paid before Horizon | M3: All Future Cash Flows | R3: Sum of Horizon Values of all Coupons paid before Horizon | Y3: Forward Clean Price Calculation (4 steps) | AD3: Forward Clean Price | AI3: Spot Yield based on Clean Price | AN3: Carry as Yield Difference | AS3: Spot Yield based on Discount Curve | AX3: Rolldown as Yield Difference | BC3: Rolldown using rolled curves | BH3: Rolled Yield Calculation (7 steps) | BM3: STEP 3: Create CRV3 (rolled curve)
C4: Spot Date: | D4: 44533 | H4: {=_xll.ds(H5:I11)} -> &Coupons_H4:50.1 | M4: Index max date: | N4: =MATCH($D$5,_xlfn.ANCHORARRAY(M5)) -> 3 | T4: Total: | U4: =SUM(_xlfn.ANCHORARRAY(U6)) -> 20.019246 | AD4: Match: | AE4: =AE5=AE6 -> TRUE | AI4: {=_xll.ds(AI5:AJ8)} -> 0.039999088 | AN4: Match: | AO4: =AO5=AO6 -> TRUE | AS4: {=_xll.ds(AS5:AT7)} -> 0.074029937 | AX4: Match: | AY4: =AY5=AY6 -> TRUE | BC4: Match: | BD4: =BD5=BD6 -> TRUE | BM4: {=_xll.ds(BM5:BN8)} -> &CRV3_BM4:50.1
C5: Horizon Date: | D5: 44805 | H5: Object= | I5: =$H$21 -> &AllFlows_H21:50.1 | M5: {=_xll.ds("ObjectTools::Show","Reference=",$H$21,"Key=","1,0,1,1")} -> #PmtDate | N5: {=_xll.ds("ObjectTools::Show","Reference=",$H$21,"Key=","1,0,2,2")} -> #Amount | R5: Cpn Pmt Date | S5: Cpn Amount | T5: Comp Factor | U5: Cpn Hor Value | AD5: Manual: | AE5: =$Y$8 -> 97.790178 | AI5: Object= | AJ5: =$C$26 -> &FxdBnd_C26:50.1 | AN5: Manual: | AO5: =10000*(AI11-AI4) -> 57.408586 | AS5: Object= | AT5: =$C$26 -> &FxdBnd_C26:50.1 | AX5: Manual: | AY5: =10000*($AS$4-$AS$10) -> 34.177914 | BC5: Manual: | BD5: =10000*($AS$4-$BH$8) -> 34.201928 | BM5: Object= | BN5: =$BM$13 -> &CRV2_BM13:50.1
C6: Bond Data Input | H6: Function= | I6: Filter Values | M6: 44623 | N6: 9.8630137 | R6: {=_xll.dsSubRange(_xlfn.ANCHORARRAY(M5),2,$N$4,1,1)} -> 44623 | S6: {=_xll.dsSubRange(_xlfn.ANCHORARRAY(N5),2,$N$4,1,1)} -> 9.8630137 | T6: {=_xll.ds("Compound Factor",$Y$36,"Rate(%)=",$D$17,"Start=",_xlfn.ANCHORARRAY(R6),"End=",$D$5)} -> 1.0049863 | U6: {=IF($D$19,_xlfn.ANCHORARRAY(S6)*_xlfn.ANCHORARRAY(T6),_xlfn.ANCHORARRAY(S6))} -> 9.9121937 | AD6: Deriscope: | AE6: {=_xll.ds(AD7:AE14)} -> 97.790178 | AI6: Function= | AJ6: Yield | AN6: Deriscope: | AO6: {=_xll.ds(AN7:AO14)} -> 57.408586 | AS6: Function= | AT6: Yield | AX6: Deriscope: | AY6: {=_xll.ds(AX7:AY13)} -> 34.177914 | BC6: Deriscope: | BD6: {=_xll.ds(BC7:BD13)} -> 34.201928 | BM6: Function= | BN6: Roll Curve
C7: Bond Start: | D7: 44533 | H7: Handle= | I7: Coupons_ | M7: 44715 | N7: 10.082192 | R7: 44715 | S7: 10.082192 | T7: 1.0024658 | U7: 10.107052 | Y7: STEP 4: Horizon Clean Price | AD7: Object= | AE7: =$C$26 -> &FxdBnd_C26:50.1 | AI7: Clean Price= | AJ7: =$D$16 -> 100 | AN7: Object= | AO7: =$C$26 -> &FxdBnd_C26:50.1 | AS7: Disc Crv= | AT7: =Curves!$C$4 -> &DiscCrv_C4:52.1 | AX7: Object= | AY7: =$C$26 -> &FxdBnd_C26:50.1 | BC7: Object= | BD7: =$C$26 -> &FxdBnd_C26:50.1 | BH7: STEP 7: Calculate the yield from clean price | BM7: Handle= | BN7: CRV3_
C8: Settle Days: | D8: 2 | H8: Titles= | I8: #PmtDate | M8: 44810 | N8: 10.410959 | Y8: {=_xll.ds(Y9:Z12)} -> 97.790178 | AD8: Function= | AE8: Fwd Clean Price | AI8: Ref Date= | AJ8: =$D$23 -> 44537 | AN8: Function= | AO8: Carry | AX8: Function= | AY8: Rolldown | BC8: Function= | BD8: Rolldown | BH8: {=_xll.ds(BH9:BI12)} -> 0.070609745 | BM8: Horizon Date= | BN8: =$D$5 -> 44805
C9: Bond Maturity: | D9: 46359 | H9: Use Criteria= | I9: TRUE | M9: 44900 | N9: 9.8630137 | Y9: Object= | Z9: =$C$26 -> &FxdBnd_C26:50.1 | AD9: Clean Price= | AE9: =$D$16 -> 100 | AN9: Clean Price= | AO9: =$D$16 -> 100 | AS9: Spot Yield of Shortened Bond | AX9: Horizon Date= | AY9: =$D$5 -> 44805 | BC9: Horizon Date= | BD9: =$D$5 -> 44805 | BH9: Object= | BI9: =$BH$34 -> &ZeroSettled_BH34:50.1
C10: Coupon Rate(%): | D10: 4 | H10: Criteria= | I10: =$H$13 -> &IsWithin_H13:50.1 | M10: 44988 | N10: 9.6438356 | Y10: Function= | Z10: Clean Price | AD10: Horizon Date= | AE10: =$D$5 -> 44805 | AI10: Forward Yield at Horizon | AN10: Horizon Date= | AO10: =$D$5 -> 44805 | AS10: {=_xll.ds(AS11:AT13)} -> 0.070612146 | AX10: Definition= | AY10: Shorten Spot | BC10: Definition= | BD10: Roll Crv to Hor | BH10: Function= | BI10: Yield
C11: Coupon Step: | D11: %3M | H11: Partial Output= | I11: FALSE | M11: 45082 | N11: 10.30137 | Y11: Dirty Price= | Z11: =$Y$17 -> 98.776479 | AD11: Repo Rate(%)= | AE11: =$D$17 -> 1 | AI11: {=_xll.ds(AI12:AJ15)} -> 0.045739946 | AN11: Repo Rate(%)= | AO11: =$D$17 -> 1 | AS11: Object= | AT11: =$AS$16 -> &FxdBnd_AS16:50.1 | AX11: Disc Crv= | AY11: =Curves!$C$4 -> &DiscCrv_C4:52.1 | BC11: Disc Crv= | BD11: =Curves!$C$4 -> &DiscCrv_C4:52.1 | BH11: Clean Price= | BI11: =$BH$17 -> 88.827267
C12: Pmt Delay: | D12: %0D{US} | M12: 45174 | N12: 10.082192 | Y12: Ref Date= | Z12: =$D$5 -> 44805 | AD12: Repo Def= | AE12: =$Y$36 -> &RepoConvs_Y36:50.1 | AI12: Object= | AJ12: =$C$26 -> &FxdBnd_C26:50.1 | AN12: Repo Def= | AO12: =$Y$36 -> &RepoConvs_Y36:50.1 | AS12: Function= | AT12: Yield | AX12: Yield Def= | AY12: =$AX$16 -> &YieldConvs_AX16:50.1 | BC12: Yield Def= | BD12: =$AX$16 -> &YieldConvs_AX16:50.1 | BH12: Ref Date= | BI12: =$D$5 -> 44805 | BM12: STEP 2: Create CRV2 (centered at spot)
C13: Ex Coupon Prd: | D13: %3D | H13: {=_xll.ds(H14:I19)} -> &IsWithin_H13:50.1 | M13: 45264 | N13: 9.8630137 | AD13: Coupon Interest= | AE13: =$D$19 -> TRUE | AI13: Function= | AJ13: Yield | AN13: Out Unit= | AO13: bp | AS13: Disc Crv= | AT13: =Curves!$C$4 -> &DiscCrv_C4:52.1 | AX13: Out Unit= | AY13: bp | BC13: Out Unit= | BD13: bp | BM13: {=_xll.ds(BM14:BN18)} -> &CRV2_BM13:50.1
C14: Notional: | D14: 1000 | H14: Type= | I14: Is Within | M14: 45355 | N14: 9.9726027 | AD14: Ref Date= | AE14: =$D$23 -> 44537 | AI14: Clean Price= | AJ14: =$AE$6 -> 97.790178 | AN14: Ref Date= | AO14: =$D$23 -> 44537 | BM14: Object= | BN14: =$BM$23 -> &CRV1_BM23:50.1
C15: Market Data Input | H15: Function= | I15: CREATE | M15: 45446 | N15: 9.9726027 | AI15: Ref Date= | AJ15: =$D$5 -> 44805 | AS15: Shortened Bond | AX15: Yield Conventions | BC15: Yield Conventions | BM15: Function= | BN15: Shift Curve
C16: Clean Price: | D16: 100 | H16: Lower= | I16: {=_xll.ds("Date::Add Period","Date=",$D$23,"Period=",$D$34)} -> 44540 | M16: 45538 | N16: 10.082192 | Y16: STEP 3: Horizon Dirty Price | AS16: {=_xll.ds(AS17:AT19)} -> &FxdBnd_AS16:50.1 | AX16: {=_xll.ds(AX17:AY21)} -> &YieldConvs_AX16:50.1 | BC16: {=_xll.ds(BC17:BD21)} -> &YieldConvs_BC16:50.1 | BH16: STEP 6: Calculate the clean price at Hor | BM16: Handle= | BN16: CRV2_
C17: Repo Rate(%): | D17: 1 | H17: Incl Lower= | I17: FALSE | M17: 45629 | N17: 9.9726027 | Y17: =$Y$23*100/Z18 -> 98.776479 | AS17: Object= | AT17: =$C$26 -> &FxdBnd_C26:50.1 | AX17: Type= | AY17: Int Rate Spec | BC17: Type= | BD17: Int Rate Spec | BH17: {=_xll.ds(BH18:BI21)} -> 88.827267 | BM17: Date Spec= | BN17: By Period Plus
C18: Repo DayCount: | D18: %ACT/365F | H18: Upper= | I18: {=_xll.ds("Date::Add Period","Date=",$D$5,"Period=",$D$34)} -> 44808 | M18: 45719 | N18: 9.8630137 | Y18: Notional at Horizon: | Z18: {=_xll.ds("Notional",$C$26,"Ref Date=",$D$5)} -> 1000 | AS18: Function= | AT18: Shift Maturity | AX18: Function= | AY18: CREATE | BC18: Function= | BD18: CREATE | BH18: Object= | BI18: =$BH$34 -> &ZeroSettled_BH34:50.1 | BM18: Shift= | BN18: ="%"&($D$4-$D$23)&"D" -> %-4D
C19: Coupon Interest: | D19: TRUE | H19: Incl Upper= | I19: TRUE | M19: 45811 | N19: 10.082192 | AS19: Shift= | AT19: ="%"&($D$23-$D$5)&"D" -> %-268D | AX19: Handle= | AY19: YieldConvs_ | BC19: Handle= | BD19: YieldConvs_ | BH19: Function= | BI19: Clean Price
C20: Yield DayCount: | D20: %ACT/365F | M20: 45903 | N20: 10.082192 | AX20: Compounding= | AY20: Simple | BC20: Compounding= | BD20: Simple | BH20: Dirty Price= | BI20: =$BH$26 -> 89.813569
H21: {=_xll.ds(H22:I26)} -> &AllFlows_H21:50.1 | M21: 45994 | N21: 9.9726027 | AX21: DayCount= | AY21: =$D$20 -> %ACT/365F | BC21: DayCount= | BD21: =$D$20 -> %ACT/365F | BH21: Ref Date= | BI21: =$D$5 -> 44805
C22: Date Info | H22: Object= | I22: =$C$26 -> &FxdBnd_C26:50.1 | M22: 46084 | N22: 9.8630137 | Y22: STEP 2: Horizon Settlement Value | BM22: STEP 1: Create CRV1 (forward curve)
C23: Bond Settlement: | D23: {=_xll.ds("Settle Date",$C$26,"RefDate=",$D$4)} -> 44537 | H23: Function= | I23: Cash Flows | M23: 46176 | N23: 10.082192 | Y23: =Z25-Z24 -> 987.76479 | BM23: {=_xll.ds(BM24:BN28)} -> &CRV1_BM23:50.1
H24: Handle= | I24: AllFlows_ | M24: 46268 | N24: 10.082192 | Y24: All Cpn Hor Value: | Z24: =$U$4 -> 20.019246 | BM24: Object= | BN24: =Curves!$C$4 -> &DiscCrv_C4:52.1
C25: Bond Object | H25: As Of= | I25: =$D$4 -> 44533 | M25: 46359 | N25: 1009.9726 | Y25: Comp Spot Settle Val: | Z25: =$Y$46*$Y$28 -> 1007.784 | BH25: STEP 5: Calculate the rolled dirty price at Hor | BM25: Function= | BN25: Shift Curve
C26: {=_xll.ds(C27:D36)} -> &FxdBnd_C26:50.1 | H26: CF Spec= | I26: =$H$28 -> &CFMdl_H28:50.1 | BH26: {=_xll.ds(BH27:BI29)} -> 89.813569 | BM26: Handle= | BN26: CRV1_
C27: Type= | D27: Fxd Rate Bond | Y27: Repo Compound Factor | BH27: Object= | BI27: =$BH$34 -> &ZeroSettled_BH34:50.1 | BM27: Date Spec= | BN27: By Date
C28: Function= | D28: Create | H28: {=_xll.ds(H29:I32)} -> &CFMdl_H28:50.1 | Y28: {=_xll.ds(Y29:Z33)} -> 1.0073425 | BH28: Function= | BI28: Dirty Price | BM28: DF Multiplier= | BN28: =1/$BM$30 -> 1.0004377
C29: Issuer= | D29: %PUBLIC|US | H29: Type= | I29: CF Model | Y29: Object= | Z29: =$Y$36 -> &RepoConvs_Y36:50.1 | BH29: Disc Crv= | BI29: =$BM$4 -> &CRV3_BM4:50.1
C30: Settle Days= | D30: =$D$8 -> 2 | H30: Function= | I30: CREATE | Y30: Function= | Z30: Compound Factor | BM30: {=_xll.ds(BM31:BN33)} -> 0.99956248
C31: Accrual Schedule= | D31: =$C$39 -> &Sched_C39:50.1 | H31: Column Choice= | I31: PmtNet | Y31: Rate(%)= | Z31: =$D$17 -> 1 | BM31: Object= | BN31: =Curves!$C$4 -> &DiscCrv_C4:52.1
C32: Rate(%)= | D32: =$D$10 -> 4 | H32: Sorted Columns= | I32: #PmtDate | Y32: Start= | Z32: =$D$23 -> 44537 | BM32: Function= | BN32: DF
C33: Pmt Lag= | D33: =$D$12 -> %0D{US} | Y33: End= | Z33: =$D$5 -> 44805 | BH33: STEP 4: Create the zero settled Bond | BM33: Maturity= | BN33: =$D$23 -> 44537
C34: Ex Coupon Prd= | D34: =$D$13 -> %3D | BH34: {=_xll.ds(BH35:BI39)} -> &ZeroSettled_BH34:50.1
C35: Redemption= | D35: 1 | Y35: Repo Rate Conventions | BH35: Object= | BI35: =$C$26 -> &FxdBnd_C26:50.1
C36: Notional= | D36: =$D$14 -> 1000 | Y36: {=_xll.ds(Y37:Z41)} -> &RepoConvs_Y36:50.1 | BH36: Function= | BI36: Clone
Y37: Type= | Z37: Int Rate Spec | BH37: Handle= | BI37: ZeroSettled_
C38: Bond Schedule Object | Y38: Function= | Z38: CREATE | BH38: Settle Days= | BI38: 0
C39: {=_xll.ds(C40:D48)} -> &Sched_C39:50.1 | Y39: Handle= | Z39: RepoConvs_ | BH39: Pmt Delay= | BI39: %0D
C40: Type= | D40: Schedule | Y40: Compounding= | Z40: Simple
C41: Function= | D41: CREATE | Y41: DayCount= | Z41: =$D$18 -> %ACT/365F
C42: Start Date= | D42: =$D$7 -> 44533
...

Sheet Portfolio
C3: Portfolio Creation | H3: Task Creation | O3: Task Execution | T3: Output
C4: {=_xll.ds(C5:D6,C8:C10)} -> &Prtfl_C4:51.1 | H4: {=_xll.ds(H5:I7,H8,H9:K10)} -> &CarryTask_H4:51.1 | O4: {=_xll.ds(O5:P6)} -> &keyset__O4:51.1 | T4: {=_xll.ds("ObjectTools::Show","Reference=",$O$4,"Key=","CARRY","ExpandFinal=",TRUE)} -> 61.739278
C5: Type= | D5: Portfolio | H5: Type= | I5: Task | O5: Object= | P5: =$H$4 -> &CarryTask_H4:51.1 | T5: 66.891403
C6: Function= | D6: Create | H6: Function= | I6: Create | O6: Function= | P6: Run
H7: Handle= | I7: CarryTask_
C8: Tradables= | H8: Functions=
C9: =CarryRoll!$C$26 -> &FxdBnd_C26:50.1 | H9: #Function | I9: #Target | J9: #CommonInput | K9: #VaryingInput
C10: =$C$12 -> &Bond2_C12:51.1 | H10: Carry | I10: =$C$4 -> &Prtfl_C4:51.1 | J10: =$H$12 -> &CarryCommonInput_H12:51.1 | K10: =$H$22 -> &CarryVaryingInput_H22:51.1
C12: {=_xll.ds(C13:D16)} -> &Bond2_C12:51.1 | H12: {=_xll.ds(H13:I20)} -> &CarryCommonInput_H12:51.1
C13: Object= | D13: =CarryRoll!$C$26 -> &FxdBnd_C26:50.1 | H13: Type= | I13: KeySet
C14: Function= | D14: Clone | H14: Function= | I14: CREATE
C15: Handle= | D15: Bond2_ | H15: Handle= | I15: CarryCommonInput_
C16: Accrual Schedule= | D16: =C18 -> &Sched2_C18:51.1 | H16: Horizon Date= | I16: =CarryRoll!$D$5 -> 44805
H17: Repo Rate(%)= | I17: =CarryRoll!$D$17 -> 1
C18: {=_xll.ds(C19:D22)} -> &Sched2_C18:51.1 | H18: Repo Def= | I18: =CarryRoll!$Y$36 -> &RepoConvs_Y36:50.1
C19: Object= | D19: =CarryRoll!$C$39 -> &Sched_C39:50.1 | H19: Out Unit= | I19: bp
C20: Function= | D20: Clone | H20: Ref Date= | I20: =CarryRoll!$D$23 -> 44537
C21: Handle= | D21: Sched2_
C22: End Date= | D22: =CarryRoll!$D$9-365 -> 45994 | H22: {=_xll.ds(H23:I25,H26,H27:H28)} -> &CarryVaryingInput_H22:51.1
H23: Type= | I23: KeySet
H24: Function= | I24: CREATE
H25: Handle= | I25: CarryVaryingInput_
H26: Clean Price=
H27: 99
H28: 101
